Package: getDEE2 Version: 1.21.0 Command: /Library/Frameworks/R.framework/Resources/bin/R CMD build --keep-empty-dirs --no-resave-data getDEE2 StartedAt: 2025-11-13 16:31:49 -0500 (Thu, 13 Nov 2025) EndedAt: 2025-11-13 16:33:20 -0500 (Thu, 13 Nov 2025) EllapsedTime: 90.9 seconds RetCode: 0 Status: OK PackageFile: getDEE2_1.21.0.tar.gz PackageFileSize: 23.42 KiB