Package: getDEE2 Version: 1.21.0 Maintainer: Mark 0000-0002-7688-6974 Ziemann MaintainerEmail: mark.ziemann at gmail.com git_url: https://git.bioconductor.org/packages/getDEE2 git_branch: devel git_last_commit: 5d99578 git_last_commit_date: 2025-10-29 10:59:58 -0500 (Wed, 29 Oct 2025)