Package: gep2pep Version: 1.31.0 Command: /home/biocbuild/bbs-3.23-bioc/R/bin/R CMD INSTALL gep2pep StartedAt: 2025-11-13 15:46:32 -0500 (Thu, 13 Nov 2025) EndedAt: 2025-11-13 15:46:49 -0500 (Thu, 13 Nov 2025) EllapsedTime: 16.6 seconds RetCode: 0 Status: OK