Package: gep2pep Version: 1.31.0 Command: /home/biocbuild/bbs-3.23-bioc/R/bin/R CMD build --keep-empty-dirs --no-resave-data gep2pep StartedAt: 2025-11-13 17:47:45 -0500 (Thu, 13 Nov 2025) EndedAt: 2025-11-13 17:48:09 -0500 (Thu, 13 Nov 2025) EllapsedTime: 24.0 seconds RetCode: 0 Status: OK PackageFile: gep2pep_1.31.0.tar.gz PackageFileSize: 121.6 KiB