Package: gep2pep Version: 1.31.0 Command: /Library/Frameworks/R.framework/Resources/bin/R CMD INSTALL gep2pep StartedAt: 2025-11-13 15:27:49 -0500 (Thu, 13 Nov 2025) EndedAt: 2025-11-13 15:27:56 -0500 (Thu, 13 Nov 2025) EllapsedTime: 6.3 seconds RetCode: 0 Status: OK