Package: gep2pep Version: 1.31.0 Command: /Library/Frameworks/R.framework/Resources/bin/R CMD build --keep-empty-dirs --no-resave-data gep2pep StartedAt: 2025-11-13 16:31:39 -0500 (Thu, 13 Nov 2025) EndedAt: 2025-11-13 16:31:49 -0500 (Thu, 13 Nov 2025) EllapsedTime: 10.1 seconds RetCode: 0 Status: OK PackageFile: gep2pep_1.31.0.tar.gz PackageFileSize: 121.9 KiB