Package: gep2pep Version: 1.31.0 Command: rm -rf gep2pep.buildbin-libdir && mkdir gep2pep.buildbin-libdir && /Users/biocbuild/BBS/utils/build-universal.sh gep2pep_1.31.0.tar.gz /Library/Frameworks/R.framework/Resources/bin/R gep2pep.buildbin-libdir StartedAt: 2025-11-14 23:34:42 -0500 (Fri, 14 Nov 2025) EndedAt: 2025-11-14 23:34:50 -0500 (Fri, 14 Nov 2025) EllapsedTime: 8.2 seconds RetCode: 0 Status: OK PackageFile: gep2pep_1.31.0.tgz PackageFileSize: 470.8 KiB