Package: gep2pep Version: 1.31.0 Maintainer: Francesco Napolitano MaintainerEmail: franapoli at gmail.com git_url: https://git.bioconductor.org/packages/gep2pep git_branch: devel git_last_commit: 5fcf5d5 git_last_commit_date: 2025-10-29 10:42:15 -0500 (Wed, 29 Oct 2025)