Package: geomeTriD Version: 1.5.0 Command: /home/biocbuild/bbs-3.23-bioc/R/bin/R CMD build --keep-empty-dirs --no-resave-data geomeTriD StartedAt: 2025-11-13 17:47:13 -0500 (Thu, 13 Nov 2025) EndedAt: 2025-11-13 17:48:47 -0500 (Thu, 13 Nov 2025) EllapsedTime: 94.1 seconds RetCode: 0 Status: OK PackageFile: geomeTriD_1.5.0.tar.gz PackageFileSize: 1.104 MiB