Package: geomeTriD Version: 1.5.0 Command: /Library/Frameworks/R.framework/Resources/bin/R CMD INSTALL geomeTriD StartedAt: 2025-11-13 15:26:36 -0500 (Thu, 13 Nov 2025) EndedAt: 2025-11-13 15:26:58 -0500 (Thu, 13 Nov 2025) EllapsedTime: 22.8 seconds RetCode: 0 Status: OK