Package: genomicInstability Version: 1.17.0 Command: /home/biocbuild/bbs-3.23-bioc/R/bin/R CMD INSTALL genomicInstability StartedAt: 2025-11-13 15:30:23 -0500 (Thu, 13 Nov 2025) EndedAt: 2025-11-13 15:30:50 -0500 (Thu, 13 Nov 2025) EllapsedTime: 27.0 seconds RetCode: 0 Status: OK