Package: genomicInstability Version: 1.17.0 Command: /home/biocbuild/bbs-3.23-bioc/R/bin/R CMD build --keep-empty-dirs --no-resave-data genomicInstability StartedAt: 2025-11-13 17:45:58 -0500 (Thu, 13 Nov 2025) EndedAt: 2025-11-13 17:47:45 -0500 (Thu, 13 Nov 2025) EllapsedTime: 107.1 seconds RetCode: 0 Status: OK PackageFile: genomicInstability_1.17.0.tar.gz PackageFileSize: 1.222 MiB