Package: genomicInstability Version: 1.17.0 Command: /Library/Frameworks/R.framework/Resources/bin/R CMD INSTALL genomicInstability StartedAt: 2025-11-12 15:33:05 -0500 (Wed, 12 Nov 2025) EndedAt: 2025-11-12 15:33:15 -0500 (Wed, 12 Nov 2025) EllapsedTime: 10.1 seconds RetCode: 0 Status: OK