Package: genomicInstability Version: 1.17.0 Command: /Library/Frameworks/R.framework/Resources/bin/R CMD build --keep-empty-dirs --no-resave-data genomicInstability StartedAt: 2025-11-12 16:20:01 -0500 (Wed, 12 Nov 2025) EndedAt: 2025-11-12 16:20:35 -0500 (Wed, 12 Nov 2025) EllapsedTime: 34.4 seconds RetCode: 0 Status: OK PackageFile: genomicInstability_1.17.0.tar.gz PackageFileSize: 1.211 MiB