Package: genomicInstability Version: 1.17.0 Command: rm -rf genomicInstability.buildbin-libdir && mkdir genomicInstability.buildbin-libdir && /Users/biocbuild/BBS/utils/build-universal.sh genomicInstability_1.17.0.tar.gz /Library/Frameworks/R.framework/Resources/bin/R genomicInstability.buildbin-libdir StartedAt: 2025-11-13 23:39:15 -0500 (Thu, 13 Nov 2025) EndedAt: 2025-11-13 23:39:28 -0500 (Thu, 13 Nov 2025) EllapsedTime: 13.2 seconds RetCode: 0 Status: OK PackageFile: genomicInstability_1.17.0.tgz PackageFileSize: 1.267 MiB