Package: genomicInstability Version: 1.17.0 Maintainer: Mariano Alvarez MaintainerEmail: reef103 at gmail.com git_url: https://git.bioconductor.org/packages/genomicInstability git_branch: devel git_last_commit: 17308a2 git_last_commit_date: 2025-10-29 11:11:25 -0500 (Wed, 29 Oct 2025)