Package: genomation Version: 1.43.0 Command: /home/biocbuild/bbs-3.23-bioc/R/bin/R CMD INSTALL genomation StartedAt: 2025-11-14 15:29:45 -0500 (Fri, 14 Nov 2025) EndedAt: 2025-11-14 15:30:34 -0500 (Fri, 14 Nov 2025) EllapsedTime: 49.6 seconds RetCode: 0 Status: OK