Package: genomation Version: 1.43.0 Command: /Library/Frameworks/R.framework/Resources/bin/R CMD INSTALL genomation StartedAt: 2025-11-13 15:17:12 -0500 (Thu, 13 Nov 2025) EndedAt: 2025-11-13 15:17:29 -0500 (Thu, 13 Nov 2025) EllapsedTime: 17.8 seconds RetCode: 0 Status: OK