Package: genomation Version: 1.43.0 Command: /Library/Frameworks/R.framework/Resources/bin/R CMD build --keep-empty-dirs --no-resave-data genomation StartedAt: 2025-11-13 16:29:32 -0500 (Thu, 13 Nov 2025) EndedAt: 2025-11-13 16:30:04 -0500 (Thu, 13 Nov 2025) EllapsedTime: 32.4 seconds RetCode: 0 Status: OK PackageFile: genomation_1.43.0.tar.gz PackageFileSize: 6.006 MiB