Package: genomation Version: 1.43.0 Command: rm -rf genomation.buildbin-libdir && mkdir genomation.buildbin-libdir && /Users/biocbuild/BBS/utils/build-universal.sh genomation_1.43.0.tar.gz /Library/Frameworks/R.framework/Resources/bin/R genomation.buildbin-libdir StartedAt: 2025-11-14 23:34:13 -0500 (Fri, 14 Nov 2025) EndedAt: 2025-11-14 23:34:37 -0500 (Fri, 14 Nov 2025) EllapsedTime: 23.5 seconds RetCode: 0 Status: OK PackageFile: genomation_1.43.0.tgz PackageFileSize: 3.024 MiB