Package: geneplotter Version: 1.89.0 Command: /home/biocbuild/bbs-3.23-bioc/R/bin/R CMD INSTALL geneplotter StartedAt: 2025-11-14 15:28:33 -0500 (Fri, 14 Nov 2025) EndedAt: 2025-11-14 15:28:46 -0500 (Fri, 14 Nov 2025) EllapsedTime: 13.5 seconds RetCode: 0 Status: OK