Package: geneplotter Version: 1.89.0 Command: /Library/Frameworks/R.framework/Resources/bin/R CMD INSTALL geneplotter StartedAt: 2025-11-13 15:09:18 -0500 (Thu, 13 Nov 2025) EndedAt: 2025-11-13 15:09:24 -0500 (Thu, 13 Nov 2025) EllapsedTime: 6.3 seconds RetCode: 0 Status: OK