Package: geneplotter Version: 1.89.0 Command: rm -rf geneplotter.buildbin-libdir && mkdir geneplotter.buildbin-libdir && /Users/biocbuild/BBS/utils/build-universal.sh geneplotter_1.89.0.tar.gz /Library/Frameworks/R.framework/Resources/bin/R geneplotter.buildbin-libdir StartedAt: 2025-11-13 23:39:00 -0500 (Thu, 13 Nov 2025) EndedAt: 2025-11-13 23:39:09 -0500 (Thu, 13 Nov 2025) EllapsedTime: 8.2 seconds RetCode: 0 Status: OK PackageFile: geneplotter_1.89.0.tgz PackageFileSize: 1.762 MiB