Package: geneClassifiers Version: 1.35.0 Command: /Library/Frameworks/R.framework/Resources/bin/R CMD build --keep-empty-dirs --no-resave-data geneClassifiers StartedAt: 2025-11-14 16:25:26 -0500 (Fri, 14 Nov 2025) EndedAt: 2025-11-14 16:25:33 -0500 (Fri, 14 Nov 2025) EllapsedTime: 7.1 seconds RetCode: 0 Status: OK PackageFile: geneClassifiers_1.35.0.tar.gz PackageFileSize: 1.847 MiB