Package: geneClassifiers Version: 1.35.0 Command: rm -rf geneClassifiers.buildbin-libdir && mkdir geneClassifiers.buildbin-libdir && /Users/biocbuild/BBS/utils/build-universal.sh geneClassifiers_1.35.0.tar.gz /Library/Frameworks/R.framework/Resources/bin/R geneClassifiers.buildbin-libdir StartedAt: 2025-11-14 23:33:59 -0500 (Fri, 14 Nov 2025) EndedAt: 2025-11-14 23:34:03 -0500 (Fri, 14 Nov 2025) EllapsedTime: 4.1 seconds RetCode: 0 Status: OK PackageFile: geneClassifiers_1.35.0.tgz PackageFileSize: 1.89 MiB