Package: geneClassifiers Version: 1.35.0 Maintainer: R Kuiper MaintainerEmail: r.kuiper.emc at gmail.com git_url: https://git.bioconductor.org/packages/geneClassifiers git_branch: devel git_last_commit: c28693f git_last_commit_date: 2025-10-29 10:36:50 -0500 (Wed, 29 Oct 2025)