Package: genArise Version: 1.87.0 Command: /Library/Frameworks/R.framework/Resources/bin/R CMD INSTALL genArise StartedAt: 2025-11-18 15:13:27 -0500 (Tue, 18 Nov 2025) EndedAt: 2025-11-18 15:13:36 -0500 (Tue, 18 Nov 2025) EllapsedTime: 8.8 seconds RetCode: 0 Status: OK