Package: genArise Version: 1.87.0 Command: /Library/Frameworks/R.framework/Resources/bin/R CMD build --keep-empty-dirs --no-resave-data genArise StartedAt: 2025-11-16 16:25:33 -0500 (Sun, 16 Nov 2025) EndedAt: 2025-11-16 16:25:40 -0500 (Sun, 16 Nov 2025) EllapsedTime: 7.1 seconds RetCode: 0 Status: OK PackageFile: genArise_1.87.0.tar.gz PackageFileSize: 1.026 MiB