Package: genArise Version: 1.87.0 Command: rm -rf genArise.buildbin-libdir && mkdir genArise.buildbin-libdir && /Users/biocbuild/BBS/utils/build-universal.sh genArise_1.87.0.tar.gz /Library/Frameworks/R.framework/Resources/bin/R genArise.buildbin-libdir StartedAt: 2025-11-16 23:35:05 -0500 (Sun, 16 Nov 2025) EndedAt: 2025-11-16 23:35:18 -0500 (Sun, 16 Nov 2025) EllapsedTime: 12.3 seconds RetCode: 0 Status: OK PackageFile: genArise_1.87.0.tgz PackageFileSize: 1.247 MiB