Package: gemma.R Version: 3.7.0 Command: /home/biocbuild/bbs-3.23-bioc/R/bin/R CMD check --install=check:gemma.R.install-out.txt --library=/home/biocbuild/bbs-3.23-bioc/R/site-library --timings gemma.R_3.7.0.tar.gz StartedAt: 2025-11-13 23:47:47 -0500 (Thu, 13 Nov 2025) EndedAt: 2025-11-13 23:59:23 -0500 (Thu, 13 Nov 2025) EllapsedTime: 696.1 seconds RetCode: 0 Status: OK CheckDir: gemma.R.Rcheck Warnings: 0