Package: gemma.R Version: 3.7.0 Command: /home/biocbuild/bbs-3.23-bioc/R/bin/R CMD build --keep-empty-dirs --no-resave-data gemma.R StartedAt: 2025-11-11 17:45:07 -0500 (Tue, 11 Nov 2025) EndedAt: 2025-11-11 17:49:06 -0500 (Tue, 11 Nov 2025) EllapsedTime: 238.2 seconds RetCode: 1 Status: ERROR PackageFile: None PackageFileSize: NA