Package: gemma.R Version: 3.7.0 Command: /Library/Frameworks/R.framework/Resources/bin/R CMD INSTALL gemma.R StartedAt: 2025-11-13 15:11:39 -0500 (Thu, 13 Nov 2025) EndedAt: 2025-11-13 15:11:41 -0500 (Thu, 13 Nov 2025) EllapsedTime: 2.2 seconds RetCode: 0 Status: OK