Package: gemma.R Version: 3.7.0 Command: /Library/Frameworks/R.framework/Resources/bin/R CMD build --keep-empty-dirs --no-resave-data gemma.R StartedAt: 2025-11-12 16:18:15 -0500 (Wed, 12 Nov 2025) EndedAt: 2025-11-12 16:21:51 -0500 (Wed, 12 Nov 2025) EllapsedTime: 216.3 seconds RetCode: 0 Status: OK PackageFile: gemma.R_3.7.0.tar.gz PackageFileSize: 2.148 MiB