Package: gemma.R Version: 3.7.0 Command: rm -rf gemma.R.buildbin-libdir && mkdir gemma.R.buildbin-libdir && /Users/biocbuild/BBS/utils/build-universal.sh gemma.R_3.7.0.tar.gz /Library/Frameworks/R.framework/Resources/bin/R gemma.R.buildbin-libdir StartedAt: 2025-11-12 20:58:10 -0500 (Wed, 12 Nov 2025) EndedAt: 2025-11-12 20:58:13 -0500 (Wed, 12 Nov 2025) EllapsedTime: 3.1 seconds RetCode: 0 Status: OK PackageFile: gemma.R_3.7.0.tgz PackageFileSize: 2.366 MiB