Package: gemini Version: 1.25.0 Command: /home/biocbuild/bbs-3.23-bioc/R/bin/R CMD build --keep-empty-dirs --no-resave-data gemini StartedAt: 2025-11-13 17:42:22 -0500 (Thu, 13 Nov 2025) EndedAt: 2025-11-13 17:42:48 -0500 (Thu, 13 Nov 2025) EllapsedTime: 26.0 seconds RetCode: 0 Status: OK PackageFile: gemini_1.25.0.tar.gz PackageFileSize: 4.084 MiB