Package: gemini Version: 1.25.0 Command: /Library/Frameworks/R.framework/Resources/bin/R CMD INSTALL gemini StartedAt: 2025-11-13 15:05:04 -0500 (Thu, 13 Nov 2025) EndedAt: 2025-11-13 15:05:12 -0500 (Thu, 13 Nov 2025) EllapsedTime: 8.1 seconds RetCode: 0 Status: OK