Package: gemini Version: 1.25.0 Command: /Library/Frameworks/R.framework/Resources/bin/R CMD build --keep-empty-dirs --no-resave-data gemini StartedAt: 2025-11-13 16:28:15 -0500 (Thu, 13 Nov 2025) EndedAt: 2025-11-13 16:28:27 -0500 (Thu, 13 Nov 2025) EllapsedTime: 12.1 seconds RetCode: 0 Status: OK PackageFile: gemini_1.25.0.tar.gz PackageFileSize: 4.113 MiB