Package: gemini Version: 1.25.0 Maintainer: Sidharth Jain MaintainerEmail: sidharthsjain at gmail.com git_url: https://git.bioconductor.org/packages/gemini git_branch: devel git_last_commit: 37133b1 git_last_commit_date: 2025-10-29 10:52:58 -0500 (Wed, 29 Oct 2025)