Package: geNetClassifier Version: 1.51.0 Command: /Library/Frameworks/R.framework/Resources/bin/R CMD check --install=check:geNetClassifier.install-out.txt --library=/Library/Frameworks/R.framework/Resources/library --no-vignettes --timings geNetClassifier_1.51.0.tar.gz StartedAt: 2025-11-12 18:53:49 -0500 (Wed, 12 Nov 2025) EndedAt: 2025-11-12 18:54:30 -0500 (Wed, 12 Nov 2025) EllapsedTime: 41.5 seconds RetCode: 0 Status: OK CheckDir: geNetClassifier.Rcheck Warnings: 0