Package: geNetClassifier Version: 1.51.0 Command: rm -rf geNetClassifier.buildbin-libdir && mkdir geNetClassifier.buildbin-libdir && /Users/biocbuild/BBS/utils/build-universal.sh geNetClassifier_1.51.0.tar.gz /Library/Frameworks/R.framework/Resources/bin/R geNetClassifier.buildbin-libdir StartedAt: 2025-11-12 20:58:21 -0500 (Wed, 12 Nov 2025) EndedAt: 2025-11-12 20:58:26 -0500 (Wed, 12 Nov 2025) EllapsedTime: 5.1 seconds RetCode: 0 Status: OK PackageFile: geNetClassifier_1.51.0.tgz PackageFileSize: 3.237 MiB