Package: gdsfmt Version: 1.47.0 Command: /home/biocbuild/bbs-3.23-bioc/R/bin/R CMD build --keep-empty-dirs --no-resave-data gdsfmt StartedAt: 2025-11-13 17:42:10 -0500 (Thu, 13 Nov 2025) EndedAt: 2025-11-13 17:45:58 -0500 (Thu, 13 Nov 2025) EllapsedTime: 228.2 seconds RetCode: 0 Status: OK PackageFile: gdsfmt_1.47.0.tar.gz PackageFileSize: 2.796 MiB