Package: gdsfmt Version: 1.47.0 Maintainer: Xiuwen Zheng MaintainerEmail: zhengx at u.washington.edu git_url: https://git.bioconductor.org/packages/gdsfmt git_branch: devel git_last_commit: 650aa25 git_last_commit_date: 2025-10-29 10:23:33 -0500 (Wed, 29 Oct 2025)