Package: gcatest Version: 2.11.0 Command: /Library/Frameworks/R.framework/Resources/bin/R CMD INSTALL gcatest StartedAt: 2025-11-14 15:03:48 -0500 (Fri, 14 Nov 2025) EndedAt: 2025-11-14 15:03:56 -0500 (Fri, 14 Nov 2025) EllapsedTime: 7.3 seconds RetCode: 0 Status: OK