Package: gcatest Version: 2.11.0 Command: /Library/Frameworks/R.framework/Resources/bin/R CMD build --keep-empty-dirs --no-resave-data gcatest StartedAt: 2025-11-14 16:24:09 -0500 (Fri, 14 Nov 2025) EndedAt: 2025-11-14 16:24:24 -0500 (Fri, 14 Nov 2025) EllapsedTime: 15.2 seconds RetCode: 0 Status: OK PackageFile: gcatest_2.11.0.tar.gz PackageFileSize: 2.147 MiB