Package: gcatest Version: 2.11.0 Command: rm -rf gcatest.buildbin-libdir && mkdir gcatest.buildbin-libdir && /Users/biocbuild/BBS/utils/build-universal.sh gcatest_2.11.0.tar.gz /Library/Frameworks/R.framework/Resources/bin/R gcatest.buildbin-libdir StartedAt: 2025-11-14 23:33:35 -0500 (Fri, 14 Nov 2025) EndedAt: 2025-11-14 23:33:39 -0500 (Fri, 14 Nov 2025) EllapsedTime: 4.1 seconds RetCode: 0 Status: OK PackageFile: gcatest_2.11.0.tgz PackageFileSize: 3.549 MiB