Package: gcapc Version: 1.35.0 Command: /home/biocbuild/bbs-3.23-bioc/R/bin/R CMD build --keep-empty-dirs --no-resave-data gcapc StartedAt: 2025-11-13 17:40:55 -0500 (Thu, 13 Nov 2025) EndedAt: 2025-11-13 17:44:26 -0500 (Thu, 13 Nov 2025) EllapsedTime: 210.2 seconds RetCode: 0 Status: OK PackageFile: gcapc_1.35.0.tar.gz PackageFileSize: 3.81 MiB