Package: gcapc Version: 1.35.0 Command: /Library/Frameworks/R.framework/Resources/bin/R CMD INSTALL gcapc StartedAt: 2025-11-12 15:29:54 -0500 (Wed, 12 Nov 2025) EndedAt: 2025-11-12 15:30:06 -0500 (Wed, 12 Nov 2025) EllapsedTime: 11.8 seconds RetCode: 0 Status: OK