Package: gcapc Version: 1.35.0 Command: /Library/Frameworks/R.framework/Resources/bin/R CMD build --keep-empty-dirs --no-resave-data gcapc StartedAt: 2025-11-12 16:17:03 -0500 (Wed, 12 Nov 2025) EndedAt: 2025-11-12 16:18:24 -0500 (Wed, 12 Nov 2025) EllapsedTime: 80.9 seconds RetCode: 0 Status: OK PackageFile: gcapc_1.35.0.tar.gz PackageFileSize: 3.792 MiB