Package: gatom Version: 1.9.2 Command: /home/biocbuild/bbs-3.23-bioc/R/bin/R CMD INSTALL gatom StartedAt: 2025-11-14 15:26:42 -0500 (Fri, 14 Nov 2025) EndedAt: 2025-11-14 15:26:59 -0500 (Fri, 14 Nov 2025) EllapsedTime: 16.7 seconds RetCode: 0 Status: OK