Package: gatom Version: 1.9.2 Command: /home/biocbuild/bbs-3.23-bioc/R/bin/R CMD build --keep-empty-dirs --no-resave-data gatom StartedAt: 2025-11-14 17:41:09 -0500 (Fri, 14 Nov 2025) EndedAt: 2025-11-14 17:46:19 -0500 (Fri, 14 Nov 2025) EllapsedTime: 309.3 seconds RetCode: 0 Status: OK PackageFile: gatom_1.9.2.tar.gz PackageFileSize: 1.609 MiB